BEGIN:VCALENDAR
VERSION:2.0
PRODID:-//Snak The Ripper - ECPv6.15.14//NONSGML v1.0//EN
CALSCALE:GREGORIAN
METHOD:PUBLISH
X-ORIGINAL-URL:https://www.snaktheripper.com
X-WR-CALDESC:Events for Snak The Ripper
REFRESH-INTERVAL;VALUE=DURATION:PT1H
X-Robots-Tag:noindex
X-PUBLISHED-TTL:PT1H
BEGIN:VTIMEZONE
TZID:Europe/London
BEGIN:DAYLIGHT
TZOFFSETFROM:+0000
TZOFFSETTO:+0100
TZNAME:BST
DTSTART:20250330T010000
END:DAYLIGHT
BEGIN:STANDARD
TZOFFSETFROM:+0100
TZOFFSETTO:+0000
TZNAME:GMT
DTSTART:20251026T010000
END:STANDARD
BEGIN:DAYLIGHT
TZOFFSETFROM:+0000
TZOFFSETTO:+0100
TZNAME:BST
DTSTART:20260329T010000
END:DAYLIGHT
BEGIN:STANDARD
TZOFFSETFROM:+0100
TZOFFSETTO:+0000
TZNAME:GMT
DTSTART:20261025T010000
END:STANDARD
BEGIN:DAYLIGHT
TZOFFSETFROM:+0000
TZOFFSETTO:+0100
TZNAME:BST
DTSTART:20270328T010000
END:DAYLIGHT
BEGIN:STANDARD
TZOFFSETFROM:+0100
TZOFFSETTO:+0000
TZNAME:GMT
DTSTART:20271031T010000
END:STANDARD
END:VTIMEZONE
BEGIN:VEVENT
DTSTART;TZID=Europe/London:20260412T190000
DTEND;TZID=Europe/London:20260412T220000
DTSTAMP:20260421T052823
CREATED:20260213T051306Z
LAST-MODIFIED:20260213T053358Z
UID:10000456-1776020400-1776031200@www.snaktheripper.com
SUMMARY:Snak The Ripper Live @ Classic Grand (GLASGOW\, SCOTLAND) - 4/12/2026
DESCRIPTION:Hip Hop Scotland\, Cymatic\, & Stealth Bomb Records proudly present: \nSnak The Ripper – Kill The Messenger album release tour with Junk & The Bermuda \nGeneral Admission and VIP meet & greet tickets available (16+) \nVIP Includes:\n– Meet & greet + photo w Snak\n– Autographed Snak The Ripper poster\n– Early entry into event\n– First access to the merch table \nVIP ticket holders can collect their packages from the merchandise table. \nMEET & GREETS will take place prior to the event (approx 6pm). Please check the Facebook event page for full details. \nBUY TICKETS: https://www.eventbrite.com/e/snak-the-ripper-live-in-glasgow-w-junk-the-bermuda-danny-kelly-gasp-tickets-1982854451040 
URL:https://www.snaktheripper.com/event/snak-the-ripper-live-classic-grand-glasgow-scotland-4-12-2026/
LOCATION:Classic Grand\, 18 Jamaica St\, Glasgow\, G1 4QD\, United Kingdom
CATEGORIES:Live In Concert
ATTACH;FMTTYPE=image/jpeg:https://www.snaktheripper.com/wp-content/uploads/2024/11/snak-live-banner.jpg
END:VEVENT
END:VCALENDAR